BEGIN:VCALENDAR
VERSION:2.0
PRODID:-//PLZ.LV//Event Calendar//LV
CALSCALE:GREGORIAN
METHOD:PUBLISH
BEGIN:VEVENT
UID:20@plz.lv
DTSTAMP:20260423T211813Z
DTSTART:20260601T080000Z
DTEND:20260601T180000Z
SUMMARY:Valsts kapitālsabiedrībām jāiesniedz gada pārskats
DESCRIPTION:Valsts kapitālsabiedrības gada pārskatus iesniedz līdz 2025. gada 31. maijam (ieskaitot)\, bet\, ja kapitālsabiedrība atbilstoši Gada pārskatu un konsolidēto gada pārskatu likuma kritērijiem ir vidēja vai liela kapitālsabiedrība vai kapitālsabiedrība ir koncerna mātes kapitālsabiedrība\, kura sagatavo konsolidēto gada pārskatu\, – līdz 2025. gada 30. jūnijam (ieskaitot).
URL:https://www.plz.lv/kalendars/valsts-kapitalsabiedribas-gada-parskatu-iesniegsana
END:VEVENT
END:VCALENDAR
